BEGIN:VCALENDAR
PRODID:-//eluceo/ical//2.0/EN
VERSION:2.0
CALSCALE:GREGORIAN
BEGIN:VEVENT
UID:8ae3d24cc69bbd67bd66ca2c3106f02e
DTSTAMP:20260424T193758Z
SUMMARY:FILM | "The Outrageous Sophie Tucker"
DESCRIPTION:Jewish Federation of the Berkshires\nBerkshire Jewish Community
  Calendar\nhttps://jewishberkshires.org/jewish-federation-of-the-berkshire
 s-calendar/film--the-outrageous-sophie-tucker-1471635758\n\nThe rags-to-ri
 ches story of Sophie Tucker\, an iconic superstar who ruled vaudeville\, B
 roadway\, radio\, television\, and Hollywood throughout the twentieth cent
 ury. Before Beyoncé\, Lady Gaga\, Madonna\, Bette Midler\, Marilyn Monroe
 \, and Mae West\, Sophie Tucker was the first woman to infatuate her audie
 nces with a bold\, bawdy\, and brassy style unlike any other.USA\, 2014\, 
 96 minutes\, color\, English. Director: William Gazecki.COST: Student | $4
  Member | $6 General Admission | $8
DTSTART;TZID=America/New_York:20161127T140000
DTEND;TZID=America/New_York:20161127T153000
END:VEVENT
END:VCALENDAR
