BEGIN:VCALENDAR
PRODID:-//eluceo/ical//2.0/EN
VERSION:2.0
CALSCALE:GREGORIAN
BEGIN:VEVENT
UID:918092c045deafbe024967b102b58959
DTSTAMP:20260424T072940Z
SUMMARY:FILM | "The Last Resort"
DESCRIPTION:Jewish Federation of the Berkshires\nBerkshire Jewish Community
  Calendar\nhttps://jewishberkshires.org/jewish-federation-of-the-berkshire
 s-calendar/film--the-last-resort-1567629160\n\n&ldquo\;The Last Resort&rdq
 uo\; takes audiences on a journey to the iconic Miami Beach of the 1970s\,
  a mecca for Jewish retirees\, through the lens of young photographers And
 y Sweet and Gary Monroe. Click to read more and purchase tickets.
DTSTART;TZID=America/New_York:20191117T140000
DTEND;TZID=America/New_York:20191117T153000
END:VEVENT
END:VCALENDAR
