BEGIN:VCALENDAR
PRODID:-//eluceo/ical//2.0/EN
VERSION:2.0
CALSCALE:GREGORIAN
BEGIN:VEVENT
UID:cf7c0bb2fe60f38d96ba0fd74e159466
DTSTAMP:20260425T175215Z
SUMMARY:FILM | "The Burning Child"
DESCRIPTION:Jewish Federation of the Berkshires\nBerkshire Jewish Community
  Calendar\nhttps://jewishberkshires.org/jewish-federation-of-the-berkshire
 s-calendar/film--the-burning-child-1568641398\n\n&ldquo\;The Burning Child
 &rdquo\; creates a psychic mapping of Vienna through an exploration of its
  architectural interiors\, set against the backdrop of Austria&#039\;s tro
 ubled past. 
DTSTART;TZID=America/New_York:20200216T140000
DTEND;TZID=America/New_York:20200216T153000
END:VEVENT
END:VCALENDAR
