BEGIN:VCALENDAR
PRODID:-//eluceo/ical//2.0/EN
VERSION:2.0
CALSCALE:GREGORIAN
BEGIN:VEVENT
UID:fe764bab12ba4b1138144bedcb2d1a74
DTSTAMP:20260420T231345Z
SUMMARY:FILM | "Sholem Aleichem: A Conversation with Ruth Wisse and David R
 oskies"
DESCRIPTION:Jewish Federation of the Berkshires\nBerkshire Jewish Community
  Calendar\nhttps://jewishberkshires.org/jewish-federation-of-the-berkshire
 s-calendar/film--sholem-aleichem-a-conversation-with-ruth-wisse-and-david-
 roskies-1471635167\n\nThe premiere of a special film\, recorded live last 
 fall at the Yiddish Book Center: on the hundredth anniversary of the death
  of Sholem Aleichem\, two of the world’s most engaging Yiddish scholars
 —Ruth Wisse\, recently retired from Harvard\, and her brother\, David Ro
 skies\, of Hebrew University and the Jewish Theological Seminary—retell\
 , discuss\, and debate their favorite Sholem Aleichem stories in a lively\
 , freewheeling conversation.USA\, 2015\, 80 minutes\, color\, English. Dir
 ector: Joseph D...
DTSTART;TZID=America/New_York:20160904T140000
DTEND;TZID=America/New_York:20160904T153000
END:VEVENT
END:VCALENDAR
