BEGIN:VCALENDAR
PRODID:-//eluceo/ical//2.0/EN
VERSION:2.0
CALSCALE:GREGORIAN
BEGIN:VEVENT
UID:3f67903927e4d7fb07eeda86e103b450
DTSTAMP:20260422T011908Z
SUMMARY:FILM | “Rabbi Wolff: A Gentleman before God”
DESCRIPTION:Jewish Federation of the Berkshires\nBerkshire Jewish Community
  Calendar\nhttps://jewishberkshires.org/jewish-federation-of-the-berkshire
 s-calendar/film--rabbi-wolff-a-gentleman-before-god-1504185710\n\nWilliam 
 Wolff is nearly 90 and perhaps the most unconventional rabbi in the world.
  As the State Rabbi of North-East Germany\, he looks after the Jewish comm
 unities in Schwerin and Rostock\, but still lives in a bungalow near Henle
 y-on-Thames. Wolff\, a deeply religious man\, is blessed with a tremendous
  joie de vivre that defies all conventions.\n\nGermany\, 2016\, 90 mins.\,
  directed by Britta Wauer\, German with English subtitles.
DTSTART;TZID=America/New_York:20170924T140000
DTEND;TZID=America/New_York:20170924T153000
END:VEVENT
END:VCALENDAR
