BEGIN:VCALENDAR
PRODID:-//eluceo/ical//2.0/EN
VERSION:2.0
CALSCALE:GREGORIAN
BEGIN:VEVENT
UID:dce30d7bcf791154a94e2d7a76649073
DTSTAMP:20260420T151302Z
SUMMARY:FILM | "Dough"
DESCRIPTION:Jewish Federation of the Berkshires\nBerkshire Jewish Community
  Calendar\nhttps://jewishberkshires.org/jewish-federation-of-the-berkshire
 s-calendar/film--dough-1492532722\n\nA comedy/drama about the unlikely fri
 endship between an old Jewish baker and a young Muslim. Curmudgeonly widow
  Nat Dayan (Jonathan Pryce) obstinately clings to his way of life and his 
 livelihood as the owner of a kosher bakery in London’s East End. With a 
 dwindling clientele and the pressures of encroaching big box stores\, Nat 
 reluctantly enlists the help of teenager Ayyash (Jerome Holde)\, who has a
  secret side gig selling marijuana to help his struggling immigrant mother
  make ends meet. W...
DTSTART;TZID=America/New_York:20170820T140000
DTEND;TZID=America/New_York:20170820T153000
END:VEVENT
END:VCALENDAR
