BEGIN:VCALENDAR
PRODID:-//eluceo/ical//2.0/EN
VERSION:2.0
CALSCALE:GREGORIAN
BEGIN:VEVENT
UID:86681178f895f6eea0b56ab586961eba
DTSTAMP:20260420T213055Z
SUMMARY:FILM | "Der Purimspiler" ("The Jester")
DESCRIPTION:Jewish Federation of the Berkshires\nBerkshire Jewish Community
  Calendar\nhttps://jewishberkshires.org/jewish-federation-of-the-berkshire
 s-calendar/film--der-purimspiler-the-jester-1506371754\n\nWith its lively 
 circus and vaudeville music and set pieces\, The Jester provides a glimpse
  of 1937 Warsaw’s thriving Yiddish revues and cabarets\, which were dest
 royed soon after. Many of the film’s Polish- Jewish crew and actors were
  killed in the Holocaust\, making the film’s touches of melancholy even 
 more profound for today’s audiences.Poland\, USA\, 1937\, 88 mins.\, dir
 ected by Joseph Green and Joan Nowina-Przybylski\, Yiddish with English su
 btitles. Restored by The National Center for ...
DTSTART;TZID=America/New_York:20180304T140000
DTEND;TZID=America/New_York:20180304T153000
END:VEVENT
END:VCALENDAR
