BEGIN:VCALENDAR
PRODID:-//eluceo/ical//2.0/EN
VERSION:2.0
CALSCALE:GREGORIAN
BEGIN:VEVENT
UID:3e9d8f9b98178606a8ce348f66f08eb4
DTSTAMP:20260420T083836Z
SUMMARY:FILM | "Beyond the Bolex"
DESCRIPTION:Jewish Federation of the Berkshires\nBerkshire Jewish Community
  Calendar\nhttps://jewishberkshires.org/jewish-federation-of-the-berkshire
 s-calendar/film--beyond-the-bolex-1568392462\n\nAlyssa Bolsey pieces toget
 her the fragments of a forgotten family archive to reveal the epic story o
 f her great-grandfather\, the immigrant inventor of the Bolex\, a motion p
 icture camera for the masses. 
DTSTART;TZID=America/New_York:20200112T140000
DTEND;TZID=America/New_York:20200112T153000
END:VEVENT
END:VCALENDAR
