BEGIN:VCALENDAR
PRODID:-//eluceo/ical//2.0/EN
VERSION:2.0
CALSCALE:GREGORIAN
BEGIN:VEVENT
UID:7b8a27301eac6562a7ff2923af5e728d
DTSTAMP:20260420T151312Z
SUMMARY:Fiddler on the Roof at Taconic High School
DESCRIPTION:Jewish Federation of the Berkshires\nBerkshire Jewish Community
  Calendar\nhttps://jewishberkshires.org/jewish-federation-of-the-berkshire
 s-calendar/fiddler-on-the-roof-at-taconic-high-school\n\nTaconic High Scho
 ol Theatre Presents\n\nFiddler on the Roof\n\nGeneral Admission Tickets: $
 12 available at the door or online at TaconicFiddler.brownpapertickets.com
 \n\nFor more information\, call 413-448-9634 or email jpassetto@pittsfield
 .net\n\n 
DTSTART;TZID=America/New_York:20180322T190000
DTEND;TZID=America/New_York:20180322T220000
END:VEVENT
END:VCALENDAR
