BEGIN:VCALENDAR
PRODID:-//eluceo/ical//2.0/EN
VERSION:2.0
CALSCALE:GREGORIAN
BEGIN:VEVENT
UID:2bb2f84aa188c06d5548166444772db7
DTSTAMP:20260426T013436Z
SUMMARY:Fertile\, a Play Produced by the Israeli Stage
DESCRIPTION:Jewish Federation of the Berkshires\nBerkshire Jewish Community
  Calendar\nhttps://jewishberkshires.org/jewish-federation-of-the-berkshire
 s-calendar/fertile-a-play-produced-by-the-israeli-stage-1523465570\n\nFert
 ile was born with a gift-she was born without a uterus. An inherited genet
 ic abnormality makes her barren at birth. Throughout her life\, she is mar
 ked by society and by herself as faulty and defective. At 26\, following a
  romantic encounter with the man of her dreams\, Fertile decides to reexam
 ine the "broken" parts of her life\, and sets on a journey of healing hers
 elf. Her journey makes her confront all sides of her femininity and her ex
 istence.
DTSTART;TZID=America/New_York:20180812T173000
DTEND;TZID=America/New_York:20180812T190000
END:VEVENT
END:VCALENDAR
