BEGIN:VCALENDAR
PRODID:-//eluceo/ical//2.0/EN
VERSION:2.0
CALSCALE:GREGORIAN
BEGIN:VEVENT
UID:d98f0ec43f208b529c45a3a976cc7650
DTSTAMP:20260420T161134Z
SUMMARY:Feng Shui for the New Year
DESCRIPTION:Jewish Federation of the Berkshires\nBerkshire Jewish Community
  Calendar\nhttps://jewishberkshires.org/jewish-federation-of-the-berkshire
 s-calendar/feng-shui-for-the-new-year\n\nThe Jewish Federation Connecting 
 with Community presents "Feng Shui for the New Year."
DTSTART;TZID=America/New_York:20171214T104500
DTEND;TZID=America/New_York:20171214T120000
END:VEVENT
END:VCALENDAR
