BEGIN:VCALENDAR
PRODID:-//eluceo/ical//2.0/EN
VERSION:2.0
CALSCALE:GREGORIAN
BEGIN:VEVENT
UID:59dcf33b8ab6c149c8767158fdeedc1d
DTSTAMP:20260420T062518Z
SUMMARY:Federation Super Sunday Follow-up Phone-a-thon at Hevreh 
DESCRIPTION:Jewish Federation of the Berkshires\nBerkshire Jewish Community
  Calendar\nhttps://jewishberkshires.org/jewish-federation-of-the-berkshire
 s-calendar/federation-super-sunday-follow-up-phone-a-thon-at-hevreh\n\nJoi
 n us for a fun evening of service as we come together as a caring communit
 y to raise money for the Berkshires' 2015 Annual Campaign.  
DTSTART;TZID=America/New_York:20150604T183000
DTEND;TZID=America/New_York:20150604T200000
END:VEVENT
END:VCALENDAR
