BEGIN:VCALENDAR
PRODID:-//eluceo/ical//2.0/EN
VERSION:2.0
CALSCALE:GREGORIAN
BEGIN:VEVENT
UID:4a0875cfed599206a4b60a2cd2112a56
DTSTAMP:20260420T213045Z
SUMMARY:Federation Super Sunday Follow-up Phone-a-thon at Federation office
DESCRIPTION:Jewish Federation of the Berkshires\nBerkshire Jewish Community
  Calendar\nhttps://jewishberkshires.org/jewish-federation-of-the-berkshire
 s-calendar/federation-super-sunday-follow-up-phone-a-thon-at-federation-of
 fice\n\nFederation annual campaign follow-up phone-a-thon
DTSTART;TZID=America/New_York:20150528T183000
DTEND;TZID=America/New_York:20150528T200000
END:VEVENT
END:VCALENDAR
