BEGIN:VCALENDAR
PRODID:-//eluceo/ical//2.0/EN
VERSION:2.0
CALSCALE:GREGORIAN
BEGIN:VEVENT
UID:cc6d0b187e710ac30c9b24f83b3aab83
DTSTAMP:20260422T195343Z
SUMMARY:Federation Program "The Jewish Tradition of Mah Jongg" with Gregg S
 wain
DESCRIPTION:Jewish Federation of the Berkshires\nBerkshire Jewish Community
  Calendar\nhttps://jewishberkshires.org/jewish-federation-of-the-berkshire
 s-calendar/federation-program-the-jewish-tradition-of-mah-jongg-with-gregg
 -swain\n\nThe Jewish Federation of the Berkshires presents "The Jewish Tra
 dition of Mah Jongg" with Gregg Sawin\, co-author of Mah Jongg: The Art of
  the Game.
DTSTART;TZID=America/New_York:20150507T104500
DTEND;TZID=America/New_York:20150507T120000
END:VEVENT
END:VCALENDAR
