BEGIN:VCALENDAR
PRODID:-//eluceo/ical//2.0/EN
VERSION:2.0
CALSCALE:GREGORIAN
BEGIN:VEVENT
UID:526b09c11a5664607ec50bdb52169d8d
DTSTAMP:20260425T235058Z
SUMMARY:Federation Program "Lillian Roth: My Cousin the Movie Star"
DESCRIPTION:Jewish Federation of the Berkshires\nBerkshire Jewish Community
  Calendar\nhttps://jewishberkshires.org/jewish-federation-of-the-berkshire
 s-calendar/federation-program-lillian-roth-my-cousin-the-movie-star\n\nThe
  Jewish Federation of the Berkshires presents "Lillian Roth: My Cousin the
  Movie Star" with historian/teacher David Rutstein. 
DTSTART;TZID=America/New_York:20150518T104500
DTEND;TZID=America/New_York:20150518T120000
END:VEVENT
END:VCALENDAR
