BEGIN:VCALENDAR
PRODID:-//eluceo/ical//2.0/EN
VERSION:2.0
CALSCALE:GREGORIAN
BEGIN:VEVENT
UID:152d38d857ba91b47f11df4d3fecc992
DTSTAMP:20260420T175242Z
SUMMARY:Federation presents Rabbi Ivan Caine speaking about Pesach
DESCRIPTION:Jewish Federation of the Berkshires\nBerkshire Jewish Community
  Calendar\nhttps://jewishberkshires.org/jewish-federation-of-the-berkshire
 s-calendar/federation-presents-rabbi-ivan-caine-speaking-about-pesach\n\nT
 he Jewish Federation of the Berkshires presents Rabbi Ivan Caine who will 
 speak on Pesach. 
DTSTART;TZID=America/New_York:20150409T130000
DTEND;TZID=America/New_York:20150409T143000
END:VEVENT
END:VCALENDAR
