BEGIN:VCALENDAR
PRODID:-//eluceo/ical//2.0/EN
VERSION:2.0
CALSCALE:GREGORIAN
BEGIN:VEVENT
UID:43843e5ac0c38c289cbb2746f6e0eb50
DTSTAMP:20260420T061118Z
SUMMARY:Federation presents  Knosh & Knowledge with author Roselle Kline Ch
 artock
DESCRIPTION:Jewish Federation of the Berkshires\nBerkshire Jewish Community
  Calendar\nhttps://jewishberkshires.org/jewish-federation-of-the-berkshire
 s-calendar/federation-presents-knosh--knowledge-with-author-roselle-kline-
 chartock\n\nThe Jewish Federation of the Berkshires will host Knosh & Know
 ledge: "From Nazi Germany to Lenox\, MA: Windsor Mountain School\, A Belov
 ed Berkshire Institution" with local author Roselle Kline Chartock. 
DTSTART;TZID=America/New_York:20150417T104500
DTEND;TZID=America/New_York:20150417T130000
END:VEVENT
END:VCALENDAR
