BEGIN:VCALENDAR
PRODID:-//eluceo/ical//2.0/EN
VERSION:2.0
CALSCALE:GREGORIAN
BEGIN:VEVENT
UID:bc3f2debcf1af7b537b1997e5f0e1e14
DTSTAMP:20260421T014608Z
SUMMARY:Federation Knosh & Knowledge "Avenue of Spies: A True Story of Terr
 or"
DESCRIPTION:Jewish Federation of the Berkshires\nBerkshire Jewish Community
  Calendar\nhttps://jewishberkshires.org/jewish-federation-of-the-berkshire
 s-calendar/federation-knosh-knowledge-october-30-avenue-of-spies-a-true-st
 ory-of-terror\n\nKnosh & Knowledge "Avenue of Spies: A True Story of Terro
 r\, Espionage\, and One American Family's Heroic Resistance in Nazi-Occupi
 ed Paris"\nwith NY Times Bestselling author\, Alex Kershaw.
DTSTART;TZID=America/New_York:20151030T104500
DTEND;TZID=America/New_York:20151030T120000
END:VEVENT
END:VCALENDAR
