BEGIN:VCALENDAR
PRODID:-//eluceo/ical//2.0/EN
VERSION:2.0
CALSCALE:GREGORIAN
BEGIN:VEVENT
UID:3d0613ac99492c43488058056444f286
DTSTAMP:20260423T183822Z
SUMMARY:Federation Knosh & Knowledge May 29 with Jeremy Yudkin
DESCRIPTION:Jewish Federation of the Berkshires\nBerkshire Jewish Community
  Calendar\nhttps://jewishberkshires.org/jewish-federation-of-the-berkshire
 s-calendar/federation-knosh-knowledge-may-29-with-jeremy-yudkin\n\nThe Jew
 ish Federation of the Berkhires presents Knosh & Knowledge "Listening in 3
 -D. How to Get the Most out of Music" with Professor Jeremy Yudkin.
DTSTART;TZID=America/New_York:20150529T104500
DTEND;TZID=America/New_York:20150529T130000
END:VEVENT
END:VCALENDAR
