BEGIN:VCALENDAR
PRODID:-//eluceo/ical//2.0/EN
VERSION:2.0
CALSCALE:GREGORIAN
BEGIN:VEVENT
UID:2c74df277d5db0e18a5878e024cd1271
DTSTAMP:20260421T204351Z
SUMMARY:Federation Global Planning input session
DESCRIPTION:Jewish Federation of the Berkshires\nBerkshire Jewish Community
  Calendar\nhttps://jewishberkshires.org/jewish-federation-of-the-berkshire
 s-calendar/federation-global-planning-input-session\n\nFederation Global P
 lanning input session
DTSTART;TZID=America/New_York:20130131T100000
DTEND;TZID=America/New_York:20130131T113000
END:VEVENT
END:VCALENDAR
