BEGIN:VCALENDAR
PRODID:-//eluceo/ical//2.0/EN
VERSION:2.0
CALSCALE:GREGORIAN
BEGIN:VEVENT
UID:674887af57987064919a1d40a815839b
DTSTAMP:20260421T223805Z
SUMMARY:Federation Connecting with Community program "The Process of Aging"
DESCRIPTION:Jewish Federation of the Berkshires\nBerkshire Jewish Community
  Calendar\nhttps://jewishberkshires.org/jewish-federation-of-the-berkshire
 s-calendar/federation-connecting-with-community-program-the-process-of-agi
 ng\n\nThe Jewish Federation of the Berkshires' Connecting with Community s
 eries welcomes Maggie Bittman\, therapist\, as she leads and facilitates a
  group discussion about "The Process of Aging."  
DTSTART;TZID=America/New_York:20150716T104500
DTEND;TZID=America/New_York:20150716T120000
END:VEVENT
END:VCALENDAR
