BEGIN:VCALENDAR
PRODID:-//eluceo/ical//2.0/EN
VERSION:2.0
CALSCALE:GREGORIAN
BEGIN:VEVENT
UID:19cfb789d343ea6bf592f1c299c0960e
DTSTAMP:20260420T180114Z
SUMMARY:Federation Connecting with Community program 'In the Unlikeliest of
  Places"
DESCRIPTION:Jewish Federation of the Berkshires\nBerkshire Jewish Community
  Calendar\nhttps://jewishberkshires.org/jewish-federation-of-the-berkshire
 s-calendar/federation-connecting-with-community-program-in-the-unlikeliest
 -of-places\n\nThe Jewish Federation of the Berkshires Connecting with Comm
 unity series “In the Unlikeliest of Places” – A Father’s Remarkabl
 e Story\, Told by His Daughter.
DTSTART;TZID=America/New_York:20150713T104500
DTEND;TZID=America/New_York:20150713T120000
END:VEVENT
END:VCALENDAR
