BEGIN:VCALENDAR
PRODID:-//eluceo/ical//2.0/EN
VERSION:2.0
CALSCALE:GREGORIAN
BEGIN:VEVENT
UID:39cfd26388b7f612ca2be1d4778eea2c
DTSTAMP:20260420T180226Z
SUMMARY:Feasting in Rome's Jewish Kitchen: Cooking Demo with Leah Koenig
DESCRIPTION:Jewish Federation of the Berkshires\nBerkshire Jewish Community
  Calendar\nhttps://jewishberkshires.org/jewish-federation-of-the-berkshire
 s-calendar/feasting-in-romes-jewish-kitchen-cooking-demo-with-leah-koenig-
 1689787304\n\nFeasting in Rome's Jewish Kitchen: Cooking demo and Book Lau
 nch with Leah Koenig.\nRome is home to one of Europe's oldest and most del
 icious Jewish cuisines. The Roman Jewish kitchen is defined by its simple-
 but-elegant approach to vegetables\, its love of frying foods in olive oil
 \, its saucy braised meats\, and its beguiling desserts. Join Leah Koenig\
 , author of PORTICO: Cooking and Feasting in Rome's Jewish Kitchen (W.W. N
 orton\, 2023)\, as she demonstrates two recipes from the book--a silky ma.
 ..
DTSTART;TZID=America/New_York:20231002T190000
DTEND;TZID=America/New_York:20231002T203000
END:VEVENT
END:VCALENDAR
