BEGIN:VCALENDAR
PRODID:-//eluceo/ical//2.0/EN
VERSION:2.0
CALSCALE:GREGORIAN
BEGIN:VEVENT
UID:7f1565e0bbfaf6ed52f22ad3b4e80f0c
DTSTAMP:20260424T105550Z
SUMMARY:Farewell Paula
DESCRIPTION:Jewish Federation of the Berkshires\nBerkshire Jewish Community
  Calendar\nhttps://jewishberkshires.org/jewish-federation-of-the-berkshire
 s-calendar/farewell-paula\n\nFarewell Shabbat at Hevreh for Paula Hellman
DTSTART;TZID=America/New_York:20140509T193000
DTEND;TZID=America/New_York:20140509T200000
END:VEVENT
END:VCALENDAR
