BEGIN:VCALENDAR
PRODID:-//eluceo/ical//2.0/EN
VERSION:2.0
CALSCALE:GREGORIAN
BEGIN:VEVENT
UID:ddd2e19b6688f929b9159f548c860b8b
DTSTAMP:20260422T182013Z
SUMMARY:Far From the Tsar: Jewish American Culture\, History and Politics 1
 880-1935
DESCRIPTION:Jewish Federation of the Berkshires\nBerkshire Jewish Community
  Calendar\nhttps://jewishberkshires.org/jewish-federation-of-the-berkshire
 s-calendar/far-from-the-tsar-1776376476\n\nThis class\, taught by Rabbi Va
 l Lieber on Wednesdays from June 17-July 22\, delves into the culture\, hi
 story\, politics\, family lives\, and economics of Jews who immigrated to 
 the United States between 1880-1920. We cover what led to mass migration t
 o the United States from eastern Europe and Russia\, the challenges new im
 migrants faced\, and the amazing strides they made in a generation.\n\nTop
 ics include the Statue of Liberty in Jewish consciousness\, friction betwe
 en the German Jews and Eastern ...
DTSTART;TZID=America/New_York:20260617T120000
DTEND;TZID=America/New_York:20260617T130000
END:VEVENT
END:VCALENDAR
