BEGIN:VCALENDAR
PRODID:-//eluceo/ical//2.0/EN
VERSION:2.0
CALSCALE:GREGORIAN
BEGIN:VEVENT
UID:0006a8c8f211ee0bd17ac262e73a8a77
DTSTAMP:20260421T160413Z
SUMMARY:Finding Raven & Our Jewish Values-Federation Family FUNday
DESCRIPTION:Jewish Federation of the Berkshires\nBerkshire Jewish Community
  Calendar\nhttps://jewishberkshires.org/jewish-federation-of-the-berkshire
 s-calendar/family-values-at-berkshire-museum\n\nThe Jewish Federation of t
 he Berkshires and PJ Library are sponsoring a Family FUNday "Finding Raven
  & Our Jewish Values"
DTSTART;TZID=America/New_York:20161016T140000
DTEND;TZID=America/New_York:20161016T170000
END:VEVENT
END:VCALENDAR
