BEGIN:VCALENDAR
PRODID:-//eluceo/ical//2.0/EN
VERSION:2.0
CALSCALE:GREGORIAN
BEGIN:VEVENT
UID:08d667c0100fb87af7d494adcb3607ba
DTSTAMP:20260424T081831Z
SUMMARY:Family Shabbat Service at Temple Anshe Amunim
DESCRIPTION:Jewish Federation of the Berkshires\nBerkshire Jewish Community
  Calendar\nhttps://jewishberkshires.org/jewish-federation-of-the-berkshire
 s-calendar/family-shabbat-service-at-temple-anshe-amunim-1445532141\n\nFam
 ilies with young children connect at our monthly Family Shabbat service.  
 Join us for a short service led by Religious School students\, followed by
  dinner in the social hall.
DTSTART;TZID=America/New_York:20160205T173000
DTEND;TZID=America/New_York:20160205T183000
END:VEVENT
END:VCALENDAR
