BEGIN:VCALENDAR
PRODID:-//eluceo/ical//2.0/EN
VERSION:2.0
CALSCALE:GREGORIAN
BEGIN:VEVENT
UID:0cd8c416726cfd330d86e009d14c329a
DTSTAMP:20260425T204321Z
SUMMARY:Family Shabbat Service
DESCRIPTION:Jewish Federation of the Berkshires\nBerkshire Jewish Community
  Calendar\nhttps://jewishberkshires.org/jewish-federation-of-the-berkshire
 s-calendar/family-shabbat-service-1450201764\n\nFamilies with preschool an
 d elementary school-aged children are invited to join us for a short servi
 ce led by Religious School students\, followed by dinner.
DTSTART;TZID=America/New_York:20160108T173000
DTEND;TZID=America/New_York:20160108T183000
END:VEVENT
END:VCALENDAR
