BEGIN:VCALENDAR
PRODID:-//eluceo/ical//2.0/EN
VERSION:2.0
CALSCALE:GREGORIAN
BEGIN:VEVENT
UID:647a188de66f9cc945d45021316275bb
DTSTAMP:20260420T093432Z
SUMMARY:Family Concert with Sarah Aroeste
DESCRIPTION:Jewish Federation of the Berkshires\nBerkshire Jewish Community
  Calendar\nhttps://jewishberkshires.org/jewish-federation-of-the-berkshire
 s-calendar/family-concert-with-sarah-aroeste\n\nRecording artist Sarah Aro
 este and friends for a rockin'\, muscial Ladino time.
DTSTART;TZID=America/New_York:20161023T113000
DTEND;TZID=America/New_York:20161023T123000
END:VEVENT
END:VCALENDAR
