BEGIN:VCALENDAR
PRODID:-//eluceo/ical//2.0/EN
VERSION:2.0
CALSCALE:GREGORIAN
BEGIN:VEVENT
UID:9843c1ad76fd77004c27be173ebea1db
DTSTAMP:20260424T135132Z
SUMMARY:F I L M  Menashe
DESCRIPTION:Jewish Federation of the Berkshires\nBerkshire Jewish Community
  Calendar\nhttps://jewishberkshires.org/jewish-federation-of-the-berkshire
 s-calendar/f-i-l-m--menashe-1506372166\n\nPart of the Pioneer Valley Jewis
 h Film Festival Within Brooklyn’s ultra-Orthodox Jewish community\, a wi
 dower battles for custody of his son. A tender drama performed entirely in
  Yiddish\, the lm intimately explores the nature of faith and the price of
  parenthood. USA\, 2017\, 88 mins.\, directed by Joshua Weinstein\, Yiddis
 h with English subtitles. $8-$15
DTSTART;TZID=America/New_York:20180325T140000
DTEND;TZID=America/New_York:20180325T153000
END:VEVENT
END:VCALENDAR
