BEGIN:VCALENDAR
PRODID:-//eluceo/ical//2.0/EN
VERSION:2.0
CALSCALE:GREGORIAN
BEGIN:VEVENT
UID:a64d97fc07ed6a79567e58b7c989b138
DTSTAMP:20260423T202745Z
SUMMARY:Exploring Jewish Humor: Isaac Bashevis Singer
DESCRIPTION:Jewish Federation of the Berkshires\nBerkshire Jewish Community
  Calendar\nhttps://jewishberkshires.org/jewish-federation-of-the-berkshire
 s-calendar/exploring-jewish-humor-isaac-bashevis-singer\n\n "Exploring Jew
 ish Humor" with Yiddish scholar\, Dick Macht\, PhD.
DTSTART;TZID=America/New_York:20190701T104500
DTEND;TZID=America/New_York:20190701T120000
END:VEVENT
END:VCALENDAR
