BEGIN:VCALENDAR
PRODID:-//eluceo/ical//2.0/EN
VERSION:2.0
CALSCALE:GREGORIAN
BEGIN:VEVENT
UID:721010ff959a3473809c327c150b3b1d
DTSTAMP:20260420T194252Z
SUMMARY:Executive Committee Meeting for the Jewish Federation
DESCRIPTION:Jewish Federation of the Berkshires\nBerkshire Jewish Community
  Calendar\nhttps://jewishberkshires.org/jewish-federation-of-the-berkshire
 s-calendar/executive-committee-meeting-january-2026\n\nUnless notified oth
 erwise\, all meetings will be held virtually.
DTSTART;TZID=America/New_York:20260119T190000
DTEND;TZID=America/New_York:20260119T210000
END:VEVENT
END:VCALENDAR
