BEGIN:VCALENDAR
PRODID:-//eluceo/ical//2.0/EN
VERSION:2.0
CALSCALE:GREGORIAN
BEGIN:VEVENT
UID:1adde0c58b72ccb9bda87f1c335b778b
DTSTAMP:20260424T013633Z
SUMMARY:Executive Committee Meeting for the Jewish Federation
DESCRIPTION:Jewish Federation of the Berkshires\nBerkshire Jewish Community
  Calendar\nhttps://jewishberkshires.org/jewish-federation-of-the-berkshire
 s-calendar/executive-committee-meeting-for-the-jewish-federation\n\nUnless
  notified otherwise\, all meetings will be held virtually.
DTSTART;TZID=America/New_York:20240909T190000
DTEND;TZID=America/New_York:20240909T210000
END:VEVENT
END:VCALENDAR
