BEGIN:VCALENDAR
PRODID:-//eluceo/ical//2.0/EN
VERSION:2.0
CALSCALE:GREGORIAN
BEGIN:VEVENT
UID:960648f5d7638caedef737f56bf15f9a
DTSTAMP:20260422T191451Z
SUMMARY:Jewish Federation of the Berkshires  Executive Committee Meeting
DESCRIPTION:Jewish Federation of the Berkshires\nBerkshire Jewish Community
  Calendar\nhttps://jewishberkshires.org/jewish-federation-of-the-berkshire
 s-calendar/executive-committee-meeting-1659625620\n\nExecutive Meeting. Pl
 ease note that all meetings are held via Zoom unless otherwise noted.
DTSTART;TZID=America/New_York:20230417T190000
DTEND;TZID=America/New_York:20230417T203000
END:VEVENT
END:VCALENDAR
