BEGIN:VCALENDAR
PRODID:-//eluceo/ical//2.0/EN
VERSION:2.0
CALSCALE:GREGORIAN
BEGIN:VEVENT
UID:a3aaa54a8ee067526b78ba45ad8bae45
DTSTAMP:20260422T174643Z
SUMMARY:Jewish Federation of the Berkshires Executive Committee Meeting
DESCRIPTION:Jewish Federation of the Berkshires\nBerkshire Jewish Community
  Calendar\nhttps://jewishberkshires.org/jewish-federation-of-the-berkshire
 s-calendar/executive-committee-meeting-1659621046\n\nExecutive Committee M
 eeting with Finance Committee to review the budget
DTSTART;TZID=America/New_York:20221212T190000
DTEND;TZID=America/New_York:20221212T210000
END:VEVENT
END:VCALENDAR
