BEGIN:VCALENDAR
PRODID:-//eluceo/ical//2.0/EN
VERSION:2.0
CALSCALE:GREGORIAN
BEGIN:VEVENT
UID:60f51254f64368c09e33aa026ba1a4a4
DTSTAMP:20260422T031344Z
SUMMARY:Erev Shavuot & Confirmation
DESCRIPTION:Jewish Federation of the Berkshires\nBerkshire Jewish Community
  Calendar\nhttps://jewishberkshires.org/jewish-federation-of-the-berkshire
 s-calendar/erev-shavuot--confirmation-1463581983\n\nShavuot\, also called 
 “Chag Matan Torateinu\,” commemorates the great gift of Torah to the J
 ewish people. In addition to celebrating Torah in all of its many forms\, 
 we also mark the milestone occasion of Confirmation. The service will be l
 ed by our Confirmands\, Emma Sinkoff and Shayna Sawyer\, who will offer Di
 vrei Torah (words of Torah) reflecting on their personal Jewish journeys.
DTSTART;TZID=America/New_York:20160611T193000
DTEND;TZID=America/New_York:20160611T200000
END:VEVENT
END:VCALENDAR
