BEGIN:VCALENDAR
PRODID:-//eluceo/ical//2.0/EN
VERSION:2.0
CALSCALE:GREGORIAN
BEGIN:VEVENT
UID:2a50c72c0cd0cd96e46baf3d54328975
DTSTAMP:20260421T094804Z
SUMMARY:Edith Wharton's Anti-Semitism: A Consideration
DESCRIPTION:Jewish Federation of the Berkshires\nBerkshire Jewish Community
  Calendar\nhttps://jewishberkshires.org/jewish-federation-of-the-berkshire
 s-calendar/edith-whartons-anti-semitism-a-consideration\n\nThe Jewish Fede
 ration of the Berkshires presents: Knosh & Knowledge "Edith Wharton's Anti
 -Semitism: A Consideration"
DTSTART;TZID=America/New_York:20170714T104500
DTEND;TZID=America/New_York:20170714T120000
END:VEVENT
END:VCALENDAR
