BEGIN:VCALENDAR
PRODID:-//eluceo/ical//2.0/EN
VERSION:2.0
CALSCALE:GREGORIAN
BEGIN:VEVENT
UID:9feecff9961182f86b82e0b3e299488d
DTSTAMP:20260420T151422Z
SUMMARY:Edgar Degas: The Beautiful and Ugly Sides of the Painter
DESCRIPTION:Jewish Federation of the Berkshires\nBerkshire Jewish Community
  Calendar\nhttps://jewishberkshires.org/jewish-federation-of-the-berkshire
 s-calendar/edgar-degas-the-beautiful-and-ugly-sides-of-the-painter\n\nAs h
 is family’s banking wealth soured\, Degas blamed his misfortunes on Jewi
 sh bankers. 
DTSTART;TZID=America/New_York:20210527T184500
DTEND;TZID=America/New_York:20210527T194500
END:VEVENT
END:VCALENDAR
