BEGIN:VCALENDAR
PRODID:-//eluceo/ical//2.0/EN
VERSION:2.0
CALSCALE:GREGORIAN
BEGIN:VEVENT
UID:c959ae2c8104daff974ed6bdde09a9f5
DTSTAMP:20260420T143300Z
SUMMARY:Early American Jews Pt. 1: The Touro Synagogue: Shrine to Religious
  Freedom
DESCRIPTION:Jewish Federation of the Berkshires\nBerkshire Jewish Community
  Calendar\nhttps://jewishberkshires.org/jewish-federation-of-the-berkshire
 s-calendar/early-jewish-american-history-part-1-touro-synagogue\n\nJoin Fi
 tchburg State Professor Michael Hoberman for a two-part series on the pr
 esent-day legacy of early Jewish American history. The first session on A
 ugust 24 will focus on the Touro Synagogue in Newport\, RI.\n\nBuilt and 
 dedicated in 1763\, Touro Synagogue is now a shrine to religious freedom a
 nd Jewish belonging in the US. How do we remember its history\, and what d
 oes its legacy mean to us in the present?\n\nIn this presentation\, Profes
 sor Hoberman tells the story of the oldest synagog...
DTSTART;TZID=America/New_York:20230824T104500
DTEND;TZID=America/New_York:20230824T114500
END:VEVENT
END:VCALENDAR
