BEGIN:VCALENDAR
PRODID:-//eluceo/ical//2.0/EN
VERSION:2.0
CALSCALE:GREGORIAN
BEGIN:VEVENT
UID:409dc0f4ec88ed4be8aeff7a594a0c01
DTSTAMP:20260422T030356Z
SUMMARY:Film Screening: Dreaming of a Jewish Christmas
DESCRIPTION:Jewish Federation of the Berkshires\nBerkshire Jewish Community
  Calendar\nhttps://jewishberkshires.org/jewish-federation-of-the-berkshire
 s-calendar/dreaming-of-a-jewish-christmas-with-chinese-take-out\n\nFilm Sc
 reening: Dreaming of a Jewish Christmas\n\nView any time December 28 - Dec
 ember 29\n\nOrder Chinese take-out (or make your own) and enjoy this movie
  on us!\n\nThis musical documentary explores the lives of the Jewish creat
 ive masters who wrote many of the most iconic Christmas songs. Their creat
 ions and their culture collide through dramatized musical performances set
  in a Chinese restaurant with a Jewish clientele on Christmas Day. This mo
 dern-day story celebrates the values and hop...
DTSTART;TZID=America/New_York:20201228T000000
DTEND;TZID=America/New_York:20201228T235500
END:VEVENT
END:VCALENDAR
