BEGIN:VCALENDAR
PRODID:-//eluceo/ical//2.0/EN
VERSION:2.0
CALSCALE:GREGORIAN
BEGIN:VEVENT
UID:137bf7a42f28032290478e57ea5b3df7
DTSTAMP:20260422T133936Z
SUMMARY:Doug Mishkin in Concert at Hevreh
DESCRIPTION:Jewish Federation of the Berkshires\nBerkshire Jewish Community
  Calendar\nhttps://jewishberkshires.org/jewish-federation-of-the-berkshire
 s-calendar/doug-mishkin-in-concert-at-hevreh-1674576853\n\nDoug Mishkin co
 ncert to benefit Construct\, Inc. and the Religious Action Center of Massa
 chusetts.
DTSTART;TZID=America/New_York:20230415T200000
DTEND;TZID=America/New_York:20230415T220000
END:VEVENT
END:VCALENDAR
