BEGIN:VCALENDAR
PRODID:-//eluceo/ical//2.0/EN
VERSION:2.0
CALSCALE:GREGORIAN
BEGIN:VEVENT
UID:389d1f4e0b04601deb494207cab4bec7
DTSTAMP:20260422T173439Z
SUMMARY:Our Dogs Understand Hebrew
DESCRIPTION:Jewish Federation of the Berkshires\nBerkshire Jewish Community
  Calendar\nhttps://jewishberkshires.org/jewish-federation-of-the-berkshire
 s-calendar/do-dogs-really-understand-hebrew\n\nThe Jewish Federation Conne
 cting with Community presents "Our Dogs Understand Hebrew"
DTSTART;TZID=America/New_York:20180430T104500
DTEND;TZID=America/New_York:20180430T120000
END:VEVENT
END:VCALENDAR
