BEGIN:VCALENDAR
PRODID:-//eluceo/ical//2.0/EN
VERSION:2.0
CALSCALE:GREGORIAN
BEGIN:VEVENT
UID:2afe87f3d6c71be4980926605226e111
DTSTAMP:20260420T124202Z
SUMMARY:What’s on the Israeli Breakfast Table? Live Tour!
DESCRIPTION:Jewish Federation of the Berkshires\nBerkshire Jewish Community
  Calendar\nhttps://jewishberkshires.org/jewish-federation-of-the-berkshire
 s-calendar/diversity-of-israel-whats-on-the-breakfast-table\n\nVirtual pro
 gram.  Please register HERE.\n\nCelebrate Israel's 75th birthday\, bring 
 your appetite and join Delicious Israel for a live tour to explore the div
 ersity of Israel through the infamous Israeli Breakfast! This personaliz
 ed 1- hour experience will bring us as close to the sites\, smells\, taste
 s\, and sounds of being in Israel as possible.\n\nFrom the heart of Tel Av
 iv's Carmel Market\, we will drink some cafe shachor (black coffee)\, expe
 rience insights from the country's best hummusiy...
DTSTART;TZID=America/New_York:20230427T104500
DTEND;TZID=America/New_York:20230427T120000
END:VEVENT
END:VCALENDAR
