BEGIN:VCALENDAR
PRODID:-//eluceo/ical//2.0/EN
VERSION:2.0
CALSCALE:GREGORIAN
BEGIN:VEVENT
UID:ccc00e2660b1f0d1a134eaa230e44887
DTSTAMP:20260419T235332Z
SUMMARY:Discussion: Shakespeare\, Shylock and Anti-Semitism
DESCRIPTION:Jewish Federation of the Berkshires\nBerkshire Jewish Community
  Calendar\nhttps://jewishberkshires.org/jewish-federation-of-the-berkshire
 s-calendar/discussion-shakespeare-shylock-and-anti-semitism\n\nThe Jewish 
 Federation Connecting with Community series will host Hugh Black who will 
 discuss James S. Shapiro's book Shakespeare and the Jews\, to commemorate 
 the 400th anniversary of Shakespeare's death.  This discussion follows the
  screening of the film The Merchant of Venice on Monday\, March 6.
DTSTART;TZID=America/New_York:20170309T104500
DTEND;TZID=America/New_York:20170309T120000
END:VEVENT
END:VCALENDAR
