BEGIN:VCALENDAR
PRODID:-//eluceo/ical//2.0/EN
VERSION:2.0
CALSCALE:GREGORIAN
BEGIN:VEVENT
UID:973a600d5cca083c89c7503a281252db
DTSTAMP:20260422T121613Z
SUMMARY:Discussion of secular Jewish History
DESCRIPTION:Jewish Federation of the Berkshires\nBerkshire Jewish Community
  Calendar\nhttps://jewishberkshires.org/jewish-federation-of-the-berkshire
 s-calendar/discussion-of-secular-jewish-history-1418224513\n\nCAS discussi
 on group explores the secular study of Jewish history using evidence-based
  information incorporating science (Archeology\, Anthropology\, Physics\, 
 Chemistry etc.)\, literature\, Bible study and other relevant areas. We ar
 e trying to understand who and what we are and how we got this way.  For m
 ore information\, contact Al Steiner at email Zedal3410@verizon.net
DTSTART;TZID=America/New_York:20150118T110000
DTEND;TZID=America/New_York:20150118T123000
END:VEVENT
END:VCALENDAR
