BEGIN:VCALENDAR
PRODID:-//eluceo/ical//2.0/EN
VERSION:2.0
CALSCALE:GREGORIAN
BEGIN:VEVENT
UID:60fea504337569dfab92cce732237382
DTSTAMP:20260424T183408Z
SUMMARY:Discussion Communities: Studying the Talmud
DESCRIPTION:Jewish Federation of the Berkshires\nBerkshire Jewish Community
  Calendar\nhttps://jewishberkshires.org/jewish-federation-of-the-berkshire
 s-calendar/discussion-communities-studying-the-talmud-1463588079\n\nSid Fr
 eund returns for another popular summer session of Talmud Study. Read Talm
 ud (the Steinsaltz edition) and engage in spirited debate on the merit of 
 cases. Knowledge of Hebrew is not a prerequisite. Come to as many sessions
  as you are able.
DTSTART;TZID=America/New_York:20160607T143000
DTEND;TZID=America/New_York:20160607T163000
END:VEVENT
END:VCALENDAR
