BEGIN:VCALENDAR
PRODID:-//eluceo/ical//2.0/EN
VERSION:2.0
CALSCALE:GREGORIAN
BEGIN:VEVENT
UID:4249b47b39a0e2ae8af9fe26a2a72455
DTSTAMP:20260425T222030Z
SUMMARY:Discussion Communities at Hevreh: The Barrington Jazz Ensemble
DESCRIPTION:Jewish Federation of the Berkshires\nBerkshire Jewish Community
  Calendar\nhttps://jewishberkshires.org/jewish-federation-of-the-berkshire
 s-calendar/discussion-communities-at-hevreh-the-barrington-jazz-ensemble-1
 443797397\n\nTrice Atchison\, vocals\; Peter Coombs\, percussion\; Richard
  Evans\, keyboard\; and Roger Suter\, bass\, will perform selections from 
 "The Great American Songbook". We will sample this music from Kern and Ber
 lin through Gershwin\, Rogers\, Arlen\, and Porter and describe the artist
 ic and social context in which it developed. In this music you will discov
 er the magical combination of story/song\, swing\, and improvisation known
  as "jazz". This event is free and open to the public.
DTSTART;TZID=America/New_York:20151019T160000
DTEND;TZID=America/New_York:20151019T173000
END:VEVENT
END:VCALENDAR
