BEGIN:VCALENDAR
PRODID:-//eluceo/ical//2.0/EN
VERSION:2.0
CALSCALE:GREGORIAN
BEGIN:VEVENT
UID:dcb3d16f5eea64a8bb40755b815c4e38
DTSTAMP:20260420T125820Z
SUMMARY:Discussion Communities:  Handicapping the Presidential Election
DESCRIPTION:Jewish Federation of the Berkshires\nBerkshire Jewish Community
  Calendar\nhttps://jewishberkshires.org/jewish-federation-of-the-berkshire
 s-calendar/discussion-communities--handicapping-the-presidential-election-
 1463667447\n\nA timely panel analysis will explore the electoral history\,
  demographics\, character\, and influences of key states along with likely
  resulting regional preferences for the candidates. These factors lead to 
 a prediction on who will be elected the U.S. president in November. This w
 ill be an apolitical discussion about what people think will happen rather
  than what people want to happen. The panelists are Harold Adler\, Jan Kab
 el\, and Richard Kirsch\; all of whom will bring insightful and relevant .
 ..
DTSTART;TZID=America/New_York:20160901T150000
DTEND;TZID=America/New_York:20160901T170000
END:VEVENT
END:VCALENDAR
