BEGIN:VCALENDAR
PRODID:-//eluceo/ical//2.0/EN
VERSION:2.0
CALSCALE:GREGORIAN
BEGIN:VEVENT
UID:601709b9e81609d55899de6980f73c86
DTSTAMP:20260423T233544Z
SUMMARY:Dialogue through the Lens
DESCRIPTION:Jewish Federation of the Berkshires\nBerkshire Jewish Community
  Calendar\nhttps://jewishberkshires.org/jewish-federation-of-the-berkshire
 s-calendar/dialogue-through-the-lens\n\nDialogue through the Lens featurin
 g the works of 30 Israeli Arab and Jewish photographers\, depicting life a
 nd co-existence in the Afula-Gilboa region of Northern Israel.
DTSTART;TZID=America/New_York:20170508T173000
DTEND;TZID=America/New_York:20170508T193000
END:VEVENT
END:VCALENDAR
