BEGIN:VCALENDAR
PRODID:-//eluceo/ical//2.0/EN
VERSION:2.0
CALSCALE:GREGORIAN
BEGIN:VEVENT
UID:d0d37bf30abce29a9e58540ab6bb91c3
DTSTAMP:20260422T192220Z
SUMMARY:Death Cafe
DESCRIPTION:Jewish Federation of the Berkshires\nBerkshire Jewish Community
  Calendar\nhttps://jewishberkshires.org/jewish-federation-of-the-berkshire
 s-calendar/death-cafe-1708014450\n\nHevreh members Heidi Katz and Dave Hal
 ley will host a Death Cafe in Hevreh’s library and all are welcome to co
 me together to eat cake\, drink coffee\, and talk about death! Death Cafes
  are being held worldwide as spaces where people talk about death in group
 -directed discussion with no agenda. The only goal is to increase death aw
 areness with a view to helping people make the most of their (finite) live
 s. With death being a universal happening\, we each have something to brin
 g to the...
DTSTART;TZID=America/New_York:20240321T103000
DTEND;TZID=America/New_York:20240321T120000
END:VEVENT
END:VCALENDAR
